BEGIN:VCALENDAR
VERSION:2.0
PRODID:-//White Plains Business Improvement District//NONSGML Events//EN
CALSCALE:GREGORIAN
X-ORIGINAL-URL:https://wpbid.com/events/
X-WR-CALDESC:White Plains Business Improvement District - Events
BEGIN:VEVENT
UID:20260421T2115Z-1776806145.5567-EO-5473-1@216.187.10.242
STATUS:CONFIRMED
DTSTAMP:20260422T074316Z
CREATED:20260421T194753Z
LAST-MODIFIED:20260421T195312Z
DTSTART;TZID=America/New_York:20260614T120000
DTEND;TZID=America/New_York:20260614T230000
RDATE;TZID=America/New_York:20260624T120000,20260711T120000
SUMMARY: White Plains Soccer Fest
DESCRIPTION: Sunday June 14 | Noon – 9 pmWhite Plains Soccer Fest Block Par
 tyLocation: FanFest on Mamaroneck Avenue between E. Post Road and Maple Ave
 nue Free admission for all ages – family friendly Free shuttles to the Fest
  from/to WP MetroNorth Station Restaurants serving meals to […]
X-ALT-DESC;FMTTYPE=text/html: <h3 class="event-date"><span style="color: #8
 00080\;">Sunday June 14 | <span class="event-time">Noon - 9 pm</span></span
 ></h3><div><h2 class="event-title">White Plains Soccer Fest Block Party</h2
 ><div class="event-location"><strong>Location: FanFest on Mamaroneck Avenue
  between E. Post Road and Maple Avenue</strong></div><div class="event-desc
 "><ul class="event-list"><li>Free admission for all ages – family friendly<
 /li><li>Free shuttles to the Fest from/to WP MetroNorth Station</li><li>Res
 taurants serving meals to picnic tables in a beer garden environment</li><l
 i>Cookie decorating White Plains Bake Shoppe</li><li>Face painting</li><li>
 Human foosball</li><li>Partner activations and the Peak Street Team</li><li
 >Mobile stage with music\, contests\, trivia\, entertainment</li><li>Hundre
 ds of seats available – or – BYOC (Bring your own Chair!)</li></ul><p>FIFA 
 World Cup 2026™ Watch Party on Jumbo Screen</p><p><strong>1 – 3 pm Germany 
 vs. Curaca</strong><strong>o</strong></p><p><strong>4 – 6 pm Netherlands vs
 . Japan</strong></p><p><strong>7 – 9 pm Ecuador vs. Ivory Coast</strong></p
 ><p> </p><p><strong>All Day — Celebratory Activities on the Block</strong><
 /p><p><strong>Westchester Soccer Club</strong></p><ul class="event-list"><l
 i>Soccer darts</li><li>Pop up soccer demos</li><li>Guess your kick speed ch
 allenge</li><li>Corn Hole Competitions</li></ul><p class="event-desc"><stro
 ng>Burke Rehabilitation</strong> — Shoe fitting and go to exercises for run
 ners/athletes and general walkers</p><p class="event-desc"><strong>Shoe Dri
 ve/Donations:</strong> soles4soles</p><hr /><h3 class="event-date"><span st
 yle="color: #800080\;">Wednesday June 24 | <span class="event-time">5:30 - 
 8 pm</span></span></h3><div><h2 class="event-title">FIFA World Cup 2026™ Wa
 tch Party</h2><div class="event-location"><strong>Location: White Plains Li
 brary\, 100 Martine Avenue</strong></div><div class="event-desc"><p>Light f
 ood will be served. Capoeira performance at halftime. Capoeira is a Brazili
 an martial art blending dance\, acrobatics\, and music! Great for all ages\
 ; family friendly.<br /><strong>Sponsored by Fogo de Chao</strong><br /><a 
 class="btn-register" href="https://calendar.whiteplainslibrary.org/events/"
  target="_blank" rel="noopener">Register</a></p><hr /><h3 class="event-date
 "><span style="color: #800080\;">Saturday July 11 | <span class="event-time
 ">4 - 11 pm</span></span></h3><div><h2 class="event-title">WP Soccer Fest B
 lock Party</h2><div class="event-location"><strong>Location: FanFest on Mam
 aroneck Avenue between E. Post Road and Maple Avenue</strong></div><div cla
 ss="event-desc"><ul class="event-list"><li>Free admission for all ages – fa
 mily friendly</li><li>Free shuttles to the fest from/to WP MetroNorth Stati
 on</li><li>Restaurants serving meals to picnic tables in a beer garden envi
 ronment</li><li>Hundreds of seats available – or – BYOC (Bring your own Cha
 ir!)</li></ul><div class="watch-party-header"><span style="color: #800080\;
 "><strong>FIFA World Cup 2026™ Watch Party on Jumbo Screen</strong></span><
 /div><p>5 – 7pm Quarterfinal Match<br />9 – 11 pm Quarterfinal Match</p><p 
 class="event-desc"><strong>All Afternoon Celebratory Activities on the Bloc
 k</strong></p><p class="event-desc"><strong>Westchester Soccer Club</strong
 ></p><ul class="event-list"><li>Soccer darts</li><li>Pop up soccer demos</l
 i><li>Guess your kick speed challenge</li><li>Corn hole competitions</li><l
 i>Shoe drive/donations</li></ul></div></div></div></div></div></div>
ORGANIZER;CN="Susan":MAILTO:graphics@wpbid.com
URL;VALUE=URI:https://wpbid.com/events/white-plains-soccer-fest/
ATTACH;FMTTYPE=image/jpeg:https://wpbid.com/wp-content/uploads/2026/04/soccerfest-Events-Webpage-Thumbnail-1024x512-px-.jpg
END:VEVENT
BEGIN:VTIMEZONE
TZID:America/New_York
BEGIN:DAYLIGHT
TZOFFSETFROM:-0500
TZOFFSETTO:-0400
DTSTART:20260308T070000
TZNAME:EDT
END:DAYLIGHT
END:VTIMEZONE
END:VCALENDAR
