BEGIN:VCALENDAR
VERSION:2.0
PRODID:-//White Plains Business Improvement District//NONSGML Events//EN
CALSCALE:GREGORIAN
X-ORIGINAL-URL:https://wpbid.com/events/
X-WR-CALDESC:White Plains Business Improvement District - Events
BEGIN:VEVENT
UID:20250228T2320Z-1740784825.3438-EO-4533-1@216.187.10.242
STATUS:CONFIRMED
DTSTAMP:20260423T104156Z
CREATED:20250228T185104Z
LAST-MODIFIED:20250402T195452Z
DTSTART;VALUE=DATE:20250301
DTEND;VALUE=DATE:20250401
SUMMARY: March Into Self Care 2025
DESCRIPTION: Spring is a time of renewal\, making it the perfect season to 
 embrace self-care. Throughout March\, our March Into Self-Care campaign wil
 l highlight wellness tips and showcase local businesses where you can relax
 \, recharge\, and prioritize your health and well-being. Follow along from 
 March 1 to March 31 for inspiration on ways to treat yourself!
X-ALT-DESC;FMTTYPE=text/html: <h3 data-prosemirror-content-type="node" data
 -prosemirror-node-name="paragraph" data-prosemirror-node-block="true" data-
 pm-slice="1 1 []"><strong data-prosemirror-content-type="mark" data-prosemi
 rror-mark-name="strong">What is Self-Care?</strong></h3><p data-prosemirror
 -content-type="node" data-prosemirror-node-name="paragraph" data-prosemirro
 r-node-block="true">Self-care is doing things that help you feel good\, bot
 h physically and mentally. It can reduce stress\, keep you healthy\, and gi
 ve you more energy. It looks different for everyone\, and that’s what makes
  it great because what works for you is what matters most!</p><h3 data-pros
 emirror-content-type="node" data-prosemirror-node-name="paragraph" data-pro
 semirror-node-block="true" data-pm-slice="1 1 []"><strong data-prosemirror-
 content-type="mark" data-prosemirror-mark-name="strong">Self-Care in Downto
 wn White Plains</strong></h3><p data-prosemirror-content-type="node" data-p
 rosemirror-node-name="paragraph" data-prosemirror-node-block="true"><strong
  data-prosemirror-content-type="mark" data-prosemirror-mark-name="strong">F
 uel Up with Fresh Juices\, Smoothies & Healthy Eats:</strong></p><ul><li da
 ta-prosemirror-content-type="node" data-prosemirror-node-name="paragraph" d
 ata-prosemirror-node-block="true"><a href="https://bigapplesmoothie.com">Bi
 g Apple Smoothie</a></li><li data-prosemirror-content-type="node" data-pros
 emirror-node-name="paragraph" data-prosemirror-node-block="true"><a href="h
 ttps://www.chopandgo.com">Chop & Go</a></li><li data-prosemirror-content-ty
 pe="node" data-prosemirror-node-name="paragraph" data-prosemirror-node-bloc
 k="true"><a href="https://frecklesjuice.com">Freckles Juice</a></li><li dat
 a-prosemirror-content-type="node" data-prosemirror-node-name="paragraph" da
 ta-prosemirror-node-block="true"><a href="https://playabowls.com">Playa Bow
 ls</a></li></ul><p data-prosemirror-content-type="node" data-prosemirror-no
 de-name="paragraph" data-prosemirror-node-block="true"><strong data-prosemi
 rror-content-type="mark" data-prosemirror-mark-name="strong">Move\, Stretch
  & Strengthen:</strong></p><ul><li><a href="https://www.nyrr.org/getinvolve
 d/club/dubset-running-collective">Dubset Running Collective</a> </li><li><a
  href="https://www.eacwp.com">Evolve Athletic Club</a></li><li><a href="htt
 ps://www.orangetheory.com/en-us/locations/new-york/white-plains/245-mamaron
 eck-ave">Orange Theory</a></li><li><a href="https://www.purebarre.com/locat
 ion/white-plains-ny">Pure Barre</a></li><li><a href="https://www.stretchlab
 .com/location/whiteplains">Stretch Lab</a></li><li data-prosemirror-content
 -type="node" data-prosemirror-node-name="paragraph" data-prosemirror-node-b
 lock="true"><a href="https://www.facebook.com/westchesterroadrunner/">Westc
 hester Road Runner</a></li></ul><p data-prosemirror-content-type="node" dat
 a-prosemirror-node-name="paragraph" data-prosemirror-node-block="true"><str
 ong data-prosemirror-content-type="mark" data-prosemirror-mark-name="strong
 ">Treat Yourself to a Fresh Look:</strong></p><ul><li data-prosemirror-cont
 ent-type="node" data-prosemirror-node-name="paragraph" data-prosemirror-nod
 e-block="true"><a href="https://www.authentichairstudio.com/white-plains">A
 uthentic Hair Studio</a></li><li data-prosemirror-content-type="node" data-
 prosemirror-node-name="paragraph" data-prosemirror-node-block="true"><a hre
 f="https://www.facebook.com/AvenueSalonAndSuites/">Avenue Salon & Suites</a
 ></li><li data-prosemirror-content-type="node" data-prosemirror-node-name="
 paragraph" data-prosemirror-node-block="true"><a href="https://moduastudio.
 com">Modua Studio</a></li><li data-prosemirror-content-type="node" data-pro
 semirror-node-name="paragraph" data-prosemirror-node-block="true"><a href="
 https://statichair.com">Static Hair Salon</a></li><li data-prosemirror-cont
 ent-type="node" data-prosemirror-node-name="paragraph" data-prosemirror-nod
 e-block="true"><a href="https://www.salonmaffei.com">Salon Maffei</a></li><
 /ul><p data-prosemirror-content-type="node" data-prosemirror-node-name="par
 agraph" data-prosemirror-node-block="true"><strong data-prosemirror-content
 -type="mark" data-prosemirror-mark-name="strong">Relax\, Refresh & Rejuvena
 te:</strong></p><ul><li data-prosemirror-content-type="node" data-prosemirr
 or-node-name="paragraph" data-prosemirror-node-block="true"><a href="https:
 //havenpt.net/white-plains/">Haven Physical Therapy</a></li><li data-prosem
 irror-content-type="node" data-prosemirror-node-name="paragraph" data-prose
 mirror-node-block="true"><a href="https://www.imageoasisny.com">Oasis Med S
 pa</a></li><li data-prosemirror-content-type="node" data-prosemirror-node-n
 ame="paragraph" data-prosemirror-node-block="true"><a href="https://www.ski
 ncarebykrystal.net">Skincare by Krystal</a></li><li data-prosemirror-conten
 t-type="node" data-prosemirror-node-name="paragraph" data-prosemirror-node-
 block="true"><a href="https://www.thestudiomd.com/white-plains/">Studio MD<
 /a></li><li data-prosemirror-content-type="node" data-prosemirror-node-name
 ="paragraph" data-prosemirror-node-block="true"><a href="https://www.theopu
 swestchester.com/spa">The Opus Spa Westchester</a></li><li data-prosemirror
 -content-type="node" data-prosemirror-node-name="paragraph" data-prosemirro
 r-node-block="true"><a href="https://whiteplainsacupuncture.com">White Plai
 ns Acupuncture</a></li></ul><h3 data-prosemirror-content-type="node" data-p
 rosemirror-node-name="paragraph" data-prosemirror-node-block="true"><strong
  data-prosemirror-content-type="mark" data-prosemirror-mark-name="strong">P
 romotions:</strong></h3><h4 data-prosemirror-content-type="node" data-prose
 mirror-node-name="paragraph" data-prosemirror-node-block="true">These busin
 esses are offering discounts on select services to help you focus on your w
 ell-being!</h4><p data-prosemirror-content-type="node" data-prosemirror-nod
 e-name="paragraph" data-prosemirror-node-block="true"><a href="https://whit
 eplainsacupuncture.com">The Opus Spa Westchester</a> - 20% off all body ser
 vices\, including their Organic Sugar Glow Scrub\, Aloe & Seaweed Body Wrap
 \, European Rosewood Body Wrap\, <span>Gentlemen's Code Facial\, Sports Mas
 sage\, </span>and Reiki Healing.</p>
CATEGORIES:Past Happenings
ORGANIZER;CN="Brian Reyes":MAILTO:brian@wpbid.com
URL;VALUE=URI:https://wpbid.com/events/march-into-self-care-2025/
ATTACH;FMTTYPE=image/jpeg:https://wpbid.com/wp-content/uploads/2025/02/march-into-self-care-2025-1024x512-1.jpg
END:VEVENT
BEGIN:VTIMEZONE
TZID:America/New_York
BEGIN:STANDARD
TZOFFSETFROM:-0400
TZOFFSETTO:-0500
DTSTART:20241103T060000
TZNAME:EST
END:STANDARD
END:VTIMEZONE
END:VCALENDAR
