BEGIN:VCALENDAR
VERSION:2.0
PRODID:-//White Plains Business Improvement District//NONSGML Events//EN
CALSCALE:GREGORIAN
X-ORIGINAL-URL:https://wpbid.com/events/
X-WR-CALDESC:White Plains Business Improvement District - Events
BEGIN:VEVENT
UID:20220317T0344Z-1647488652.0354-EO-524-1@216.187.10.242
STATUS:CONFIRMED
DTSTAMP:20260422T064134Z
CREATED:20211104T212659Z
LAST-MODIFIED:20220316T183647Z
DTSTART;TZID=America/New_York:20210901T121000
DTEND;TZID=America/New_York:20210901T125500
RRULE:FREQ=WEEKLY;INTERVAL=1;BYDAY=WE;UNTIL=20220525T161000Z
SUMMARY: Wednesdays: Downtown Music at Grace Church
DESCRIPTION: Downtown Music delights audiences with its beautiful setting a
 nd award-winning series of free\, weekly concerts that offer a variety of m
 usical genres and styles.
X-ALT-DESC;FMTTYPE=text/html: <h3>Downtown Music delights audiences with it
 s beautiful setting and award-winning series of free\, weekly concerts that
  offer a variety of musical genres and styles.</h3><p>Free 45 minute progra
 ms at 12:10 pm every Wednesday from September 2021 through May 2022. Locate
 d at Grace Church\, 33 Church Street by the corner of Main Street and Mamar
 oneck Avenue. For more information\, visit <a href="https://www.dtmusic.org
 /2021-2022-season"><span style="color: #138da1\;">dtmusic.org</span></a><sp
 an style="color: #138da1\;">.</span></p><h3><strong>September</strong></h3>
 <hr /><table border="0" cellpadding="1" cellspacing="1" style="width: 100%\
 ;"><tbody><tr><td style="width: 15px\;"><p><strong>9</strong></p></td><td><
 p><strong><a href="http://www.dtmusic.org/2021-2022-season/the-gabrielle-ga
 ro-quartet">The Gabrielle Garo Quartet</a></strong><br />            Join u
 s for a jazz concert by The Gabrielle Garo Quartet\, presented by Downtown 
 Music as part of JazzFest White Plains 2021. Presented in partnership with 
 ArtsWestchester.</p></td></tr></tbody></table><table border="0" cellpadding
 ="1" cellspacing="1" style="width: 100%\;"><tbody><tr><td style="width: 15p
 x\;"><p><strong>15</strong></p></td><td><p><a href="http://www.dtmusic.org/
 2021-2022-season/sounds-of-the-scottish-highlands"><strong>Sounds of the Sc
 ottish Highlands</strong></a><br />            Sounds of the Scottish Highl
 ands (Outdoor Concert) – Celebrated piper Jonathan Henken returns to Downto
 wn Music to launch our 34th season with a program of ancient airs and dance
 s of Scotland.</p></td></tr></tbody></table><table border="0" cellpadding="
 1" cellspacing="1" style="width: 100%\;"><tbody><tr><td style="width: 15px\
 ;"><p><b>22</b></p></td><td><p><strong><a href="https://www.dtmusic.org/202
 1-2022-season/westchester-philharmonic">Chamber Music with the Phil: Debora
 h Wong and Steven Beck</a></strong><br />            The musicians of the W
 estchester Philharmonic return for one of their exciting chamber music conc
 erts.</p></td></tr></tbody></table><table border="0" cellpadding="1" cellsp
 acing="1" style="width: 100%\;"><tbody><tr><td style="width: 15px\;"><p><st
 rong>29</strong></p></td><td><p><strong><a href="https://www.dtmusic.org/20
 21-2022-season/anna-rabinova-and-svetlana-gorokhovich">Anna Rabinova and Sv
 etlana Gorokhovich</a></strong><br />            Violinist Anna Rabinova an
 d pianist Svetlana Gorokhovich collaborate on an exciting program that incl
 udes music by Brahms and Sarasate.</p></td></tr></tbody></table><p> </p><h3
 ><strong>October</strong></h3><hr /><table border="0" cellpadding="1" cells
 pacing="1" style="width: 100%\;"><tbody><tr><td style="width: 15px\;"><p><s
 trong>6</strong></p></td><td><p><strong><a href="https://www.dtmusic.org/20
 21-2022-season/5vnubumazd2oo32suzdmlkajmgtme8">Hailey McAvoy and Bethany Pi
 etroniro</a></strong><br />            Mezzo soprano Hailey McAvoy is joine
 d by pianist Bethany Pietroniro for a voyage through Aaron Copland’s Twelve
  Poems of Emily Dickinson.</p></td></tr></tbody></table><table border="0" c
 ellpadding="1" cellspacing="1" style="width: 100%\;"><tbody><tr><td style="
 width: 15px\;"><p><strong>13</strong></p></td><td><p><strong><a href="https
 ://www.dtmusic.org/2021-2022-season/the-nocturno-project">The Nocturno Proj
 ect</a></strong><br />            The Nocturno Project\, with Nicki Denner 
 (keyboards)\, Anton Denner (woodwinds)\, Mayra Casales (percussion)\, and J
 ennifer Vincent (bass and cello) charts a new direction for this all-star e
 nsemble of jazz veterans.</p></td></tr></tbody></table><table border="0" ce
 llpadding="1" cellspacing="1" style="width: 100%\;"><tbody><tr><td style="w
 idth: 15px\;"><p><strong>20</strong></p></td><td><p><strong><a href="https:
 //www.dtmusic.org/2021-2022-season/laureate-of-the-new-york-international-p
 iano-competition">Laureate of the New York International Piano Competition<
 /a></strong><br />            Downtown Music continues its collaboration wi
 th the virtuosic young pianists who are prize winners of this venerable con
 test.</p></td></tr></tbody></table><table border="0" cellpadding="1" cellsp
 acing="1" style="width: 100%\;"><tbody><tr><td style="width: 15px\;"><p><st
 rong>27</strong></p></td><td><p><strong><a href="https://www.dtmusic.org/20
 21-2022-season/john-lehnmann-haupt">John Lehmann-Haupt</a></strong><br />  
           Guitarist John Lehmann-Haupt returns to Downtown Music with a pro
 gram including works by Bach\, Haydn\, Gershwin\, and Villa-Lobos\, and a s
 election of popular and traditional song<br />            arrangements.</p>
 </td></tr></tbody></table><p> </p><h3><strong>November</strong></h3><hr /><
 table border="0" cellpadding="1" cellspacing="1" style="width: 100%\;"><tbo
 dy><tr><td style="width: 15px\;"><p><strong>3</strong></p></td><td><p><stro
 ng><a href="https://www.dtmusic.org/2021-2022-season/woodys-children-at-gra
 ce">Woody’s Children at Grace</a></strong><br />            With 26 recordi
 ngs and hundreds of songs in his repertoire\, Tom Chapin serves up a tasty 
 mix of story songs\, ballads\, comedic and political songs\, family music\,
  sing-alongs\, old-time folk classics\, and a favorite song or two of his l
 ate brother Harry’s.</p></td></tr></tbody></table><table border="0" cellpad
 ding="1" cellspacing="1" style="width: 100%\;"><tbody><tr><td style="width:
  15px\;"><p><strong>10</strong></p></td><td><p><strong><a href="https://www
 .dtmusic.org/2021-2022-season/westchester-philharmonic-3l3k7">Chamber Music
  with the Phil</a></strong><br />            The Westchester Philharmonic S
 tring Quartet\, with Robert Chausow and Martin Agee\, violins\; Michael Rot
 h\, viola\; and Eugene Moye\, cello\, will treat us to special concert in o
 ur continuing partnership with the Phil. The program features Haydn’s Strin
 g Quartet in D Minor\, Op. 74\, No. 2 “Quinten\,” and Dvořák’s String Quart
 et No. 12\, “American.”</p></td></tr></tbody></table><table border="0" cell
 padding="1" cellspacing="1" style="width: 100%\;"><tbody><tr><td style="wid
 th: 15px\;"><p><strong>17</strong></p></td><td><p><strong><a href="https://
 www.dtmusic.org/2021-2022-season/martha-guth-and-erika-switzer">Martha Guth
  and Erika Switzer</a></strong><br />            Martha Guth\, soprano and 
 Erika Switzer\, piano offer works of Aaron Copland\, Robert Schumann\, Robe
 rto Sierra\, and Leslie Uyeda.</p></td></tr></tbody></table><p> </p><h3><st
 rong>December</strong></h3><hr /><table border="0" cellpadding="1" cellspac
 ing="1" style="width: 100%\;"><tbody><tr><td style="width: 15px\;"><p><stro
 ng>1</strong></p></td><td><p><strong><a href="https://www.dtmusic.org/2021-
 2022-season/new-york-gilbert-and-sullivan-players-with-bob-sherman">New Yor
 k Gilbert and Sullivan Players with Bob Sherman</a></strong><br />         
    A trio of stars of New York Gilbert & Sullivan Players\, also known as T
 he Wand’ring Minstrels\, perform an Afternoon of Gilbert & Sullivan favorit
 es\, featuring many selections from the full repertoire of Gilbert & Sulliv
 an’s comic operas.</p></td></tr></tbody></table><table border="0" cellpaddi
 ng="1" cellspacing="1" style="width: 100%\;"><tbody><tr><td style="width: 1
 5px\;"><p><strong>8</strong></p></td><td><p><strong><a href="https://www.dt
 music.org/2021-2022-season/a-new-noel">A New Noel</a></strong><br />       
      Cabaret artist Kimberly Hawkey is joined by pianist/arranger Assaf Gle
 izner to perform songs from their new holiday album\, as well as traditiona
 l Christmas carols and swing songs.</p></td></tr></tbody></table><table bor
 der="0" cellpadding="1" cellspacing="1" style="width: 100%\;"><tbody><tr><t
 d style="width: 15px\;"><p><strong>15</strong></p></td><td><p><strong><a hr
 ef="https://www.dtmusic.org/2021-2022-season/angelica-womens-chamber-choir"
 >Angelica Women's Chamber Choir</a></strong><br />            Angelica Wome
 n’s Chamber Choir\, directed by Marie Caruso\, presents a concert celebrati
 ng their 25th season.</p></td></tr></tbody></table><p> </p><h3><strong>Janu
 ary</strong></h3><hr /><table border="0" cellpadding="1" cellspacing="1" st
 yle="width: 100%\;"><tbody><tr><td style="width: 15px\;"><p><strong>12</str
 ong></p></td><td><p><strong><a href="https://www.dtmusic.org/2021-2022-seas
 on/westchester-philharmonic-pmbb9">Chamber Music with the Phil<br />       
      ​</a></strong>The musicians of the Westchester Philharmonic return for
  one of their exciting chamber music concerts.</p></td></tr></tbody></table
 ><table border="0" cellpadding="1" cellspacing="1" style="width: 100%\;"><t
 body><tr><td style="width: 15px\;"><p><strong>19</strong></p></td><td><p><s
 trong><a href="https://www.dtmusic.org/2021-2022-season/laureate-of-the-new
 -york-international-piano-competition-y57fm">Laureate of the New York Inter
 national Piano Competition</a></strong><br />            Downtown Music con
 tinues its collaboration with the virtuosic young pianists who are prize wi
 nners of this venerable contest. Please check back later for program detail
 s.</p></td></tr></tbody></table><table border="0" cellpadding="1" cellspaci
 ng="1" style="width: 100%\;"><tbody><tr><td style="width: 15px\;"><p><stron
 g>26</strong></p></td><td><p><strong><a href="https://www.dtmusic.org/2021-
 2022-season/jordan-smith-and-irena-portenko">Jordan Smith and Irena Portenk
 o</a></strong><br />            Saxophonist Jordan Smith joins with pianist
  Irena Portenko for “Meditations” a captivating program of works in an intr
 ospective style.</p></td></tr></tbody></table><p> </p><h3><strong>February<
 /strong></h3><hr /><table border="0" cellpadding="1" cellspacing="1" style=
 "width: 100%\;"><tbody><tr><td style="width: 15px\;"><p><strong>2</strong><
 /p></td><td><p><strong><a href="https://www.dtmusic.org/2021-2022-season/ja
 rdena-gertler-jaffe-and-bethany-pietroniro">Jardena Gertler-Jaffe and Betha
 ny Pietroniro</a></strong><br />            Jardena Gertler-Jaffe\, soprano
  and Bethany Pietroniro\, piano explore the concepts of the spiritual\, sac
 red\, and secular through repertoire by Jewish composers and poets.</p></td
 ></tr></tbody></table><table border="0" cellpadding="1" cellspacing="1" sty
 le="width: 100%\;"><tbody><tr><td style="width: 15px\;"><p><strong>9</stron
 g></p></td><td><p><strong><a href="https://www.dtmusic.org/2021-2022-season
 /hailey-mcavoy-and-ryan-macevoy-mccullough">Hailey McAvoy and Ryan MacEvoy 
 McCullough</a></strong><br />            Mezzo Soprano Hailey McAvoy and Pi
 anist Ryan MacEvoy McCullough team up to offer the strikingly beautiful son
 g cycle <em>Les nuits d'été</em> of Hector Berlioz.</p></td></tr></tbody></
 table><table border="0" cellpadding="1" cellspacing="1" style="width: 100%\
 ;"><tbody><tr><td style="width: 15px\;"><p><strong>16</strong></p></td><td 
 style="width: 931px\;"><p><strong><a href="https://www.dtmusic.org/2021-202
 2-season/lorengreer-and-bethany-pietroniro">Loren Greer and Bethany Pietron
 iro</a></strong><br />            Based around the Seven Sonnets of Michela
 ngelo by Benjamin Britten\, Loren Greer\, vocalist and Bethany Pietroniro\,
  piano explore the poetic potency of art song literature.</p></td></tr></tb
 ody></table><table border="0" cellpadding="1" cellspacing="1" style="width:
  100%\;"><tbody><tr><td style="width: 15px\;"><p><strong>23</strong></p></t
 d><td style="width: 929px\;"><p><strong><a href="https://www.dtmusic.org/20
 21-2022-season/an-english-pastoral">An English Pastoral</a></strong><br /> 
            Tenor Maximillian Jansen is joined by Helena Baillie playing vio
 lin and viola and organist Timothy Lewis for this program featuring the str
 iking and rarely heard Four Hymns for Tenor and Viola of Ralph Vaughan Will
 iams as well as the composer’s evocative Lark Ascending.</p></td></tr></tbo
 dy></table><p> </p><h3><strong>March</strong></h3><hr /><table border="0" c
 ellpadding="1" cellspacing="1" style="width: 100%\;"><tbody><tr><td style="
 width: 15px\;"><p><strong>9</strong></p></td><td><p><strong><a href="https:
 //www.dtmusic.org/2021-2022-season/westchester-philharmonic-pmbb9-agyrl">Ch
 amber Music with the Phil</a></strong><br />            The musicians of th
 e Westchester Philharmonic return for one of their exciting chamber music c
 oncerts.</p></td></tr></tbody></table><table border="0" cellpadding="1" cel
 lspacing="1" style="width: 100%\;"><tbody><tr><td style="width: 15px\;"><p>
 <strong>16</strong></p></td><td style="width: 933px\;"><p><strong><a href="
 https://www.dtmusic.org/2021-2022-season/laureate-of-the-new-york-internati
 onal-piano-competition-y57fm-lk4ga">Laureate of the New York International 
 Piano Competition</a></strong><br />            Downtown Music continues it
 s collaboration with the virtuosic young pianists who are prize winners of 
 this venerable contest.</p></td></tr></tbody></table><table border="0" cell
 padding="1" cellspacing="1" style="width: 100%\;"><tbody><tr><td style="wid
 th: 15px\;"><p><strong>23</strong></p></td><td><p><strong><a href="https://
 www.dtmusic.org/2021-2022-season/babette-hierholzer">Babette Hierholzer</a>
 </strong><br />            Pianist Babette Hierholzer in concert.</p></td><
 /tr></tbody></table><table border="0" cellpadding="1" cellspacing="1" style
 ="width: 100%\;"><tbody><tr><td style="width: 15px\;"><p><strong>30</strong
 ></p></td><td style="width: 932px\;"><p><strong><a href="https://www.dtmusi
 c.org/2021-2022-season/a-celebration-of-american-vernacular-music">A Celebr
 ation of American Vernacular Music</a></strong><br />            Peter Muir
  returns with a recital that traces the spectacular rise of ragtime and pop
 ular melody in American culture throughout the first two decades of the twe
 ntieth century.</p></td></tr></tbody></table><p> </p><h3><strong>April</str
 ong></h3><hr /><table border="0" cellpadding="1" cellspacing="1" style="wid
 th: 100%\;"><tbody><tr><td style="width: 15px\;"><p><strong>6</strong></p><
 /td><td><p><strong><a href="https://www.dtmusic.org/2021-2022-season/david-
 heiss-and-warren-jones">David Heiss and Warren Jones</a></strong><br />    
         Cellist David Heiss is joined by pianist Warren Jones in this speci
 al recital.</p></td></tr></tbody></table><table border="0" cellpadding="1" 
 cellspacing="1" style="width: 100%\;"><tbody><tr><td style="width: 15px\;">
 <p><strong>13</strong></p></td><td style="width: 934px\;"><p><strong><a hre
 f="https://www.dtmusic.org/2021-2022-season/ivor-klayman">Ivor Klayman and 
 Svetlana Gorokhovich</a></strong><br />            Baritone Ivor Klayman is
  joined by pianist Svetlana Gorokhovich for this all-English program featur
 ing the iconic folk song arrangements of Benjamin Britten.</p></td></tr></t
 body></table><table border="0" cellpadding="1" cellspacing="1" style="width
 : 100%\;"><tbody><tr><td style="width: 15px\;"><p><strong>20</strong></p></
 td><td style="width: 928px\;"><p><strong><a href="https://www.dtmusic.org/2
 021-2022-season/laureate-of-the-new-york-international-piano-competition-y5
 7fm-wnrap">Laureate of the New York International Piano Competition</a></st
 rong><br />            Downtown Music continues its collaboration with the 
 virtuosic young pianists who are prize winners of this venerable contest. P
 lease check back later for program details.</p></td></tr></tbody></table><t
 able border="0" cellpadding="1" cellspacing="1" style="width: 100%\;"><tbod
 y><tr><td style="width: 15px\;"><p><strong>27</strong></p></td><td style="w
 idth: 926px\;"><p><strong><a href="https://www.dtmusic.org/2021-2022-season
 /westchester-philharmonic-pmbb9-agyrl-hp272">Chamber Music with the Phil</a
 ></strong><br />            Our series of chamber music offerings with the 
 superb musicians of Westchester Philharmonic concludes with the Westchester
  Philharmonic Brass Quintet\, featuring Wayne du Maine.</p></td></tr></tbod
 y></table><p> </p><h3><strong>May</strong></h3><hr /><table border="0" cell
 padding="1" cellspacing="1" style="width: 100%\;"><tbody><tr><td style="wid
 th: 15px\;"><p><strong>4</strong></p></td><td><p><strong><a href="https://w
 ww.dtmusic.org/2021-2022-season/raman-ramakrishnan-and-erika-switzer">Raman
  Ramakrishnan and Erika Switzer</a></strong><br />            Cellist Raman
  Ramkrishnan is joined by pianist Erika Switzer on this program featuring m
 usic of Robert Schumann and Johannes Brahms.</p></td></tr></tbody></table><
 table border="0" cellpadding="1" cellspacing="1" style="width: 100%\;"><tbo
 dy><tr><td style="width: 15px\;"><p><strong>11</strong></p></td><td style="
 width: 932px\;"><p><strong><a href="https://www.dtmusic.org/2021-2022-seaso
 n/chee-yun-violin">Chee-Yun\, violin with Bob Sherman\, narrator</a></stron
 g><br />            Chee-Yun\, violin\, is joined by Bob Sherman\, narrator
 \, for this program of personal favorites for this very special Downtown Mu
 sic debut.</p></td></tr></tbody></table><table border="0" cellpadding="1" c
 ellspacing="1" style="width: 100%\;"><tbody><tr><td style="width: 15px\;"><
 p><strong>18</strong></p></td><td><p><strong><a href="https://www.dtmusic.o
 rg/2021-2022-season/co-bill-concert-mara-levine-with-gathering-time">Co-Bil
 l Concert: Mara Levine with Gathering Time</a></strong><br />            Ma
 ra Levine is joined by folk-rock harmony trio The Gathering Time at this “W
 oody’s Children at Grace” event.</p></td></tr></tbody></table><table border
 ="0" cellpadding="1" cellspacing="1" style="width: 100%\;"><tbody><tr><td s
 tyle="width: 15px\;"><p><strong>25</strong></p></td><td><p><strong><a href=
 "https://www.dtmusic.org/2021-2022-season/angelica-womens-chamber-choir-gzs
 xg">Angelica Women's Chamber Choir Spring Concert</a></strong><br />       
      Angelica Women’s Chamber Choir\, directed by Marie Caruso\, presents t
 heir annual Spring concert.</p></td></tr></tbody></table><p> </p>
CATEGORIES:Ongoing Events,Non-BID
ORGANIZER;CN="admins":MAILTO:admin@msmdesignz.com
URL;VALUE=URI:https://wpbid.com/events/downtown-music-at-grace-church/
ATTACH;FMTTYPE=image/jpeg:https://wpbid.com/wp-content/uploads/2021/11/Grace-church-thumbnail.jpg
END:VEVENT
BEGIN:VTIMEZONE
TZID:America/New_York
BEGIN:DAYLIGHT
TZOFFSETFROM:-0500
TZOFFSETTO:-0400
DTSTART:20210314T070000
TZNAME:EDT
END:DAYLIGHT
BEGIN:STANDARD
TZOFFSETFROM:-0400
TZOFFSETTO:-0500
DTSTART:20211107T060000
TZNAME:EST
END:STANDARD
BEGIN:DAYLIGHT
TZOFFSETFROM:-0500
TZOFFSETTO:-0400
DTSTART:20220313T070000
TZNAME:EDT
END:DAYLIGHT
END:VTIMEZONE
END:VCALENDAR
